BEGIN:VCALENDAR
VERSION:2.0
PRODID:-//City of Olean Housing Authority - ECPv6.15.20//NONSGML v1.0//EN
CALSCALE:GREGORIAN
METHOD:PUBLISH
X-WR-CALNAME:City of Olean Housing Authority
X-ORIGINAL-URL:https://oleanhousingauthority.org
X-WR-CALDESC:Events for City of Olean Housing Authority
REFRESH-INTERVAL;VALUE=DURATION:PT1H
X-Robots-Tag:noindex
X-PUBLISHED-TTL:PT1H
BEGIN:VTIMEZONE
TZID:UTC
BEGIN:STANDARD
TZOFFSETFROM:+0000
TZOFFSETTO:+0000
TZNAME:UTC
DTSTART:20230101T000000
END:STANDARD
END:VTIMEZONE
BEGIN:VEVENT
DTSTART;TZID=UTC:20260326T080000
DTEND;TZID=UTC:20260326T103000
DTSTAMP:20260423T160859
CREATED:20260316T153755Z
LAST-MODIFIED:20260316T153755Z
UID:6407-1774512000-1774521000@oleanhousingauthority.org
SUMMARY:March Board Meeting
DESCRIPTION:March Board Meeting:  Annual Audit Presentation for the year 2025. Rescheduled from the Feb. 2026 meeting. OHA Board Room 132 N Union St Olean NY 8AM – 10:30 AM :
URL:https://oleanhousingauthority.org/event/march-board-meeting/
END:VEVENT
BEGIN:VEVENT
DTSTART;TZID=UTC:20260226T090000
DTEND;TZID=UTC:20260226T103000
DTSTAMP:20260423T160859
CREATED:20260128T151355Z
LAST-MODIFIED:20260128T151355Z
UID:6402-1772096400-1772101800@oleanhousingauthority.org
SUMMARY:Feb. 2026 Board Meeting
DESCRIPTION:Feb Board Meeting – Annual Audit Presentation \n132 N Union St. Olean NY  OHA Board Room \n 
URL:https://oleanhousingauthority.org/event/feb-2026-board-meeting/
END:VEVENT
BEGIN:VEVENT
DTSTART;TZID=UTC:20260128T080000
DTEND;TZID=UTC:20260128T170000
DTSTAMP:20260423T160859
CREATED:20260128T151114Z
LAST-MODIFIED:20260128T151114Z
UID:6400-1769587200-1769619600@oleanhousingauthority.org
SUMMARY:Jan 28\, 2026 Board Meeting canceled due to weather
DESCRIPTION:Jan 28\, 2026 Board Meeting canceled due to weather
URL:https://oleanhousingauthority.org/event/jan-28-2026-board-meeting-canceled-due-to-weather/
END:VEVENT
BEGIN:VEVENT
DTSTART;TZID=UTC:20251210T090000
DTEND;TZID=UTC:20251210T103000
DTSTAMP:20260423T160859
CREATED:20251208T212352Z
LAST-MODIFIED:20251208T212352Z
UID:6397-1765357200-1765362600@oleanhousingauthority.org
SUMMARY:December Board Meeting
DESCRIPTION:AGENDA FOR WEDNESDAY\, December 10\, 2025 \nThe MONTHLY meeting will be held at 9:00 AM at the OHA Community  Room. \n  \nCALL TO ORDER \nAMEND/APPROVE MINUTES of the Annual meeting of September 24\, 2025 \n  \n\nPUBLIC COMMENT\nBILLS PAID – for the period 9/1/25- 11/30/25\nFINANCE REPORT\nDIRECTOR’S REPORT\nSITE REPORTS\nCAPITAL FUND\nMAINTENANCE\nOLD BUSINESS – Board Elections\nNEW BUSINESS – Utility Allowance & Flat Rent 2026\nEXECUTIVE SESSION\n\nADJOURNMENT \n 
URL:https://oleanhousingauthority.org/event/december-board-meeting/
END:VEVENT
BEGIN:VEVENT
DTSTART;TZID=UTC:20250924T090000
DTEND;TZID=UTC:20250924T103000
DTSTAMP:20260423T160859
CREATED:20250922T133636Z
LAST-MODIFIED:20250922T134317Z
UID:6394-1758704400-1758709800@oleanhousingauthority.org
SUMMARY:Annual Board Meeting 2025
DESCRIPTION:Election of Officers
URL:https://oleanhousingauthority.org/event/annual-board-meeting-2025/
LOCATION:Olean Housing Authority Main Office\, 132 N. Union Street\, Olean\, NY\, 14760\, United States
CATEGORIES:Board Meetings
END:VEVENT
BEGIN:VEVENT
DTSTART;TZID=UTC:20250827T090000
DTEND;TZID=UTC:20250827T100000
DTSTAMP:20260423T160859
CREATED:20250825T152811Z
LAST-MODIFIED:20250825T152811Z
UID:6390-1756285200-1756288800@oleanhousingauthority.org
SUMMARY:August Board Meeting
DESCRIPTION:August Board Meeting – Presentation of the 2025 Capital Fund proposed budget for approval.
URL:https://oleanhousingauthority.org/event/august-board-meeting/
LOCATION:Olean Housing Authority Main Office\, 132 N. Union Street\, Olean\, NY\, 14760\, United States
END:VEVENT
BEGIN:VEVENT
DTSTART;TZID=UTC:20250625T090000
DTEND;TZID=UTC:20250625T103000
DTSTAMP:20260423T160859
CREATED:20250620T141626Z
LAST-MODIFIED:20250620T141626Z
UID:6387-1750842000-1750847400@oleanhousingauthority.org
SUMMARY:June Board Meeting
DESCRIPTION:Presentation of the Proposed Operating Budget 7/1/2025-6/30/2026.
URL:https://oleanhousingauthority.org/event/june-board-meeting/
LOCATION:Olean Housing Authority Main Office\, 132 N. Union Street\, Olean\, NY\, 14760\, United States
END:VEVENT
BEGIN:VEVENT
DTSTART;TZID=UTC:20250528T090000
DTEND;TZID=UTC:20250528T103000
DTSTAMP:20260423T160859
CREATED:20250512T205358Z
LAST-MODIFIED:20250512T205358Z
UID:6384-1748422800-1748428200@oleanhousingauthority.org
SUMMARY:May 2025 Board Meeting
DESCRIPTION:
URL:https://oleanhousingauthority.org/event/may-2025-board-meeting/
LOCATION:Olean Housing Authority Main Office\, 132 N. Union Street\, Olean\, NY\, 14760\, United States
CATEGORIES:Board Meetings
END:VEVENT
BEGIN:VEVENT
DTSTART;TZID=UTC:20250423T090000
DTEND;TZID=UTC:20250423T103000
DTSTAMP:20260423T160859
CREATED:20250414T150201Z
LAST-MODIFIED:20250414T150206Z
UID:6356-1745398800-1745404200@oleanhousingauthority.org
SUMMARY:April Board Meeting
DESCRIPTION:
URL:https://oleanhousingauthority.org/event/april-board-meeting/
LOCATION:Olean Housing Authority Main Office\, 132 N. Union Street\, Olean\, NY\, 14760\, United States
END:VEVENT
BEGIN:VEVENT
DTSTART;TZID=UTC:20250415T090000
DTEND;TZID=UTC:20250415T100000
DTSTAMP:20260423T160859
CREATED:20250414T150017Z
LAST-MODIFIED:20250414T150017Z
UID:6354-1744707600-1744711200@oleanhousingauthority.org
SUMMARY:5 YR Annual Plan 2025-2029 Public Comment
DESCRIPTION:
URL:https://oleanhousingauthority.org/event/5-yr-annual-plan-2025-2029-public-comment/
LOCATION:Olean Housing Authority Main Office\, 132 N. Union Street\, Olean\, NY\, 14760\, United States
CATEGORIES:Public Comment Meeting
END:VEVENT
BEGIN:VEVENT
DTSTART;TZID=UTC:20241106T093000
DTEND;TZID=UTC:20241106T153000
DTSTAMP:20260423T160859
CREATED:20241028T210037Z
LAST-MODIFIED:20241028T210037Z
UID:6341-1730885400-1730907000@oleanhousingauthority.org
SUMMARY:Rent Collection
DESCRIPTION:November Site Rent Collection
URL:https://oleanhousingauthority.org/event/rent-collection/
CATEGORIES:Rent Collection
END:VEVENT
BEGIN:VEVENT
DTSTART;TZID=UTC:20241023T090000
DTEND;TZID=UTC:20241023T103000
DTSTAMP:20260423T160859
CREATED:20241017T204900Z
LAST-MODIFIED:20241017T204904Z
UID:6313-1729674000-1729679400@oleanhousingauthority.org
SUMMARY:OHA Board Meeting
DESCRIPTION:Keep track of your HOA Board Meetings! Find upcoming dates\, agendas\, and discussions. Stay informed and engaged in your community’s decision-making process. \n  \n 
URL:https://oleanhousingauthority.org/event/oha-board-meeting-3/
CATEGORIES:Board Meetings
END:VEVENT
BEGIN:VEVENT
DTSTART;TZID=UTC:20240626T090000
DTEND;TZID=UTC:20240626T103000
DTSTAMP:20260423T160859
CREATED:20240423T112637Z
LAST-MODIFIED:20240423T112642Z
UID:5919-1719392400-1719397800@oleanhousingauthority.org
SUMMARY:OHA Board Meeting
DESCRIPTION:Keep track of your HOA Board Meetings! Find upcoming dates\, agendas\, and discussions. Stay informed and engaged in your community’s decision-making process. \n  \n 
URL:https://oleanhousingauthority.org/event/oha-board-meeting-2/
LOCATION:Olean Housing Authority Main Office\, 132 N. Union Street\, Olean\, NY\, 14760\, United States
CATEGORIES:Board Meetings
ATTACH;FMTTYPE=image/jpeg:https://oleanhousingauthority.org/wp-content/uploads/2024/04/Simple-conference-room.jpg
END:VEVENT
BEGIN:VEVENT
DTSTART;TZID=UTC:20240522T090000
DTEND;TZID=UTC:20240522T103000
DTSTAMP:20260423T160859
CREATED:20240423T110853Z
LAST-MODIFIED:20240423T111304Z
UID:5897-1716368400-1716373800@oleanhousingauthority.org
SUMMARY:OHA Board Meeting
DESCRIPTION:Keep track of your HOA Board Meetings! Find upcoming dates\, agendas\, and discussions. Stay informed and engaged in your community’s decision-making process. \n  \n 
URL:https://oleanhousingauthority.org/event/oha-board-meeting/
LOCATION:Olean Housing Authority Main Office\, 132 N. Union Street\, Olean\, NY\, 14760\, United States
CATEGORIES:Board Meetings
ATTACH;FMTTYPE=image/jpeg:https://oleanhousingauthority.org/wp-content/uploads/2024/04/Simple-conference-room.jpg
END:VEVENT
END:VCALENDAR